BEGIN:VCALENDAR
VERSION:2.0
PRODID:-//Plone.org//NONSGML plone.app.event//EN
X-WR-TIMEZONE:US/Central
BEGIN:VEVENT
SUMMARY:Newburg Public Library Board Meeting
DTSTART;TZID=US/Central:20260419T170000
DTEND;TZID=US/Central:20260419T180000
DTSTAMP:20260421T095956Z
UID:18ba6feb8925455abca912e7a850759c@saas_stack_varnish:6080
ATTENDEE;CN="Board Members, Public Welcome";ROLE=REQ-PARTICIPANT:Board Mem
 bers, Public Welcome
CREATED:20260414T153204Z
LAST-MODIFIED:20260414T153252Z
LOCATION:191 Main Street\, Newburg MO
URL:https://www.newburg.lib.mo.us/newburg-public-library-board-meeting-3
END:VEVENT
BEGIN:VTIMEZONE
TZID:US/Central
X-LIC-LOCATION:US/Central
BEGIN:DAYLIGHT
DTSTART:20260308T030000
TZNAME:CDT
TZOFFSETFROM:-0600
TZOFFSETTO:-0500
END:DAYLIGHT
END:VTIMEZONE
END:VCALENDAR
